BEGIN:VCALENDAR
VERSION:2.0
PRODID:-//AIA Baltimore/Baltimore Architecture Foundation - ECPv5.14.1//NONSGML v1.0//EN
CALSCALE:GREGORIAN
METHOD:PUBLISH
X-WR-CALNAME:AIA Baltimore/Baltimore Architecture Foundation
X-ORIGINAL-URL:https://www.aiabaltimore.org
X-WR-CALDESC:Events for AIA Baltimore/Baltimore Architecture Foundation
REFRESH-INTERVAL;VALUE=DURATION:PT1H
X-Robots-Tag:noindex
X-PUBLISHED-TTL:PT1H
BEGIN:VTIMEZONE
TZID:America/New_York
BEGIN:DAYLIGHT
TZOFFSETFROM:-0500
TZOFFSETTO:-0400
TZNAME:EDT
DTSTART:20240310T070000
END:DAYLIGHT
BEGIN:STANDARD
TZOFFSETFROM:-0400
TZOFFSETTO:-0500
TZNAME:EST
DTSTART:20241103T060000
END:STANDARD
END:VTIMEZONE
BEGIN:VEVENT
DTSTART;TZID=America/New_York:20240723T173000
DTEND;TZID=America/New_York:20240723T193000
DTSTAMP:20260423T130411
CREATED:20240401T154148Z
LAST-MODIFIED:20240702T205012Z
UID:33311-1721755800-1721763000@www.aiabaltimore.org
SUMMARY:Emerging Professionals Happy Hours
DESCRIPTION:The AIA Baltimore Emerging Professionals Committee is a social and professional network of building-industry professionals.  We are geared toward recent graduates\, Architectural Experience Program (AXP) participants\, young architects\, and designers.\nEach month (fourth Tuesday evening)\, we host a happy hour at a different firm around the city (or other location). The July happy hour will be at Design Collective. RSVP here. \nFor more information\, please contact co-chairs: \nJoe Taylor\, AIA: joseph.taylor@moodynolan.com\nMoody Nolan \nGriffin Sanderoff\, Assoc. AIA: gsanderoff@gmail.com\nBCT Design Group
URL:https://www.aiabaltimore.org/event/emerging-professionals-happy-hours/
CATEGORIES:Networking
ATTACH;FMTTYPE=image/png:https://www.aiabaltimore.org/wp-content/uploads/2024/03/topic-Presentation-5.png
END:VEVENT
END:VCALENDAR