BEGIN:VCALENDAR
VERSION:2.0
PRODID:-//AIA Baltimore/Baltimore Architecture Foundation - ECPv5.14.1//NONSGML v1.0//EN
CALSCALE:GREGORIAN
METHOD:PUBLISH
X-WR-CALNAME:AIA Baltimore/Baltimore Architecture Foundation
X-ORIGINAL-URL:https://www.aiabaltimore.org
X-WR-CALDESC:Events for AIA Baltimore/Baltimore Architecture Foundation
REFRESH-INTERVAL;VALUE=DURATION:PT1H
X-Robots-Tag:noindex
X-PUBLISHED-TTL:PT1H
BEGIN:VTIMEZONE
TZID:America/New_York
BEGIN:DAYLIGHT
TZOFFSETFROM:-0500
TZOFFSETTO:-0400
TZNAME:EDT
DTSTART:20210314T070000
END:DAYLIGHT
BEGIN:STANDARD
TZOFFSETFROM:-0400
TZOFFSETTO:-0500
TZNAME:EST
DTSTART:20211107T060000
END:STANDARD
END:VTIMEZONE
BEGIN:VEVENT
DTSTART;VALUE=DATE:20210202
DTEND;VALUE=DATE:20210204
DTSTAMP:20260420T045015
CREATED:20210127T170646Z
LAST-MODIFIED:20210127T170646Z
UID:25945-1612224000-1612396799@www.aiabaltimore.org
SUMMARY:Kohler@Home: Product Demos & Panel Discussions
DESCRIPTION:Kohler@Home is your exclusive access to 80+ new products\, 5 engaging panel discussions\, and 2 featured conversations. Make the most of your Kohler@Home experience by registering today \nDiscover the cultural dynamics driving changes in market conditions and consumer expectations\, and get a first look at a range of new\nproducts designed to help kitchen and bath professionals thrive in 2021 and beyond. \nRegister or view all sessions: Kohler.com/AtHome \nQuestions? Email us: AtHome@Kohler.com | #kohlerathome\nDavid Kohler – Kohler Co.\nMegon Hill-Washington\nKohler Co. \n2021 Product Introductions\n10:00 am – 11:15 am CST\nCreating a Smarter Home\n12:00 pm – 12:45 pm CST\nWith consumers spending more time than ever at home\, the\nboundaries between spaces and tasks are breaking down.\nExplore the meaningful benefits technology can bring to the kitchen\nand bathroom\, and learn about key trends in smart plumbing.\nCarley Knobloch\nTech Lifestyle Expert\nBrad Leavitt\nAFT Construction\nJohnathan Bradley\nKohler Co.\nJordan Cooper\nWhizCribs \nDesigning for Wellbeing\n11:15 am – 12:00 pm CST\nConsumers’ desire for holistic wellbeing continues to grow\, and\nthey’re increasingly seeking homes that can help transform their\nstate of mind and facilitate everyday wellbeing. Discover how the\nbathroom and kitchen play critical roles in this journey.\nAnna Kaiser\nAnna Kaiser Studios\nBryan Mason\nAphroChic\nAshley Kohler\nKohler Co.\nAmy Lau\nAmy Lau Design \nThe Impact of Clean\n12:45 pm – 1:30 pm CST\nWith so many stressors in the outside world\, consumers want a space\nthat enhances control\, comfort\, and confidence—and cleanliness is\nfundamental to those goals. Learn how this desire for cleanliness and\nhygiene will extend beyond the pandemic and how to create spaces\nthat meet these consumer needs.\nLori Paranjape\nMrs. Paranjape\nDesign + Interiors\nCasey Flanagan\nKohler Co.\nShawn Booth\nKohler Co.\nJ. Walker Smith\nKantar \n2 FEB\nFeatured Conversation\nEnergizing Teams & Transforming\nCustomer Experience\n1:30 pm – 2:05 pm CST\nLearn about the present and future of retail and customer\nexperiences\, and the role human energy plays in leading\nbusinesses of all sizes. Bonnie Choruby\nPresident\, ANN SACKS\nAngela Ahrendts\, DBE\nFormer SVP\, Apple Retail\nand CEO\, Burberry\nDavid Kohler\nPresident and CEO\, Kohler Co. \n3 FEB\nDay 2 of Kohler@Home includes two design topics\, a look at Kohler’s Believing in Better platform\nand a featured conversation about leadership and cultural transformation within an organization.\nHighlighting the innovation Kohler brings to pressing global\nenvironmental and social issues\, this session will explore our\nBelieving in Better platform and demonstrate how purpose leads\nto smart design and a competitive edge.\nView all sessions: Kohler.com/AtHome | Questions? Email us: AtHome@Kohler.com | #kohlerathome\nBelieving in Better Laura Kohler – Kohler Co. ® \nPersonalized Design:\nColor\, Material\, & Finish\n10:45 am – 11:30 am CST\nWith consumers spending so much time at home\, they want to feel\nlike the space is uniquely theirs — aesthetically and functionally.\nExplore how combinations of color\, material\, and finish can help you\ncreate more personalized spaces. \nDefying Trend Cycles Through\nTimeless Design\n11:30 am – 12:15 pm CST\nIn a world driven by flash trends and micro-attention spans\,\nconsumers are looking for products and spaces that stand the test\nof time. Learn why durability and sustainability in manufacturing are\nincreasingly important\, and how to meet these consumer demands. \nFeatured Conversation\nChampioning Cultural\nTransformation & Leadership\n12:15 pm – 1:00 pm CST\nCreating a strong\, healthy culture is one of the most difficult and\ndelicate tasks in leading an organization. This featured conversation\nwill discuss leadership\, motivating employees\, overcoming personal\nand professional obstacles\, and championing cultural transformation\nwithin an organization.
URL:https://www.aiabaltimore.org/event/kohlerhome-product-demos-panel-discussions/
CATEGORIES:Partner Programs
END:VEVENT
END:VCALENDAR