BEGIN:VCALENDAR
VERSION:2.0
PRODID:-//AIA Baltimore/Baltimore Architecture Foundation - ECPv5.14.1//NONSGML v1.0//EN
CALSCALE:GREGORIAN
METHOD:PUBLISH
X-WR-CALNAME:AIA Baltimore/Baltimore Architecture Foundation
X-ORIGINAL-URL:https://www.aiabaltimore.org
X-WR-CALDESC:Events for AIA Baltimore/Baltimore Architecture Foundation
REFRESH-INTERVAL;VALUE=DURATION:PT1H
X-Robots-Tag:noindex
X-PUBLISHED-TTL:PT1H
BEGIN:VTIMEZONE
TZID:America/New_York
BEGIN:DAYLIGHT
TZOFFSETFROM:-0500
TZOFFSETTO:-0400
TZNAME:EDT
DTSTART:20210314T070000
END:DAYLIGHT
BEGIN:STANDARD
TZOFFSETFROM:-0400
TZOFFSETTO:-0500
TZNAME:EST
DTSTART:20211107T060000
END:STANDARD
END:VTIMEZONE
BEGIN:VEVENT
DTSTART;TZID=America/New_York:20210324T130000
DTEND;TZID=America/New_York:20210324T143000
DTSTAMP:20260420T010834
CREATED:20210319T144043Z
LAST-MODIFIED:20210319T144043Z
UID:26700-1616590800-1616596200@www.aiabaltimore.org
SUMMARY:Not Nontraditional: Women In The Building Trades (Preservation Maryland)
DESCRIPTION:According to the Department of Labor\, construction is a “nontraditional” career field for women because they account for fewer than 25% of the registered workforce. The term “nontraditional”\, however\, implies that women did not and do not traditionally participate in construction work. This is inaccurate. This misconception erases women’s contribution to historic structures and disservices present-day women working in building trades. This webinar will delve into women’s roles in construction\, historically and today. \n  \nSpeakers: \n\nShelley E. Roff\, Ph.D.\, Associate Professor\, College of Architecture\, Construction and Planning\, University of Texas at San Antonio\nLisa Sasser\, Principal\, Quid Tum Historic Structures Consulting\nAmy McCauley\, Preservation Joiner\, George Washington’s Mount Vernon\n\n\n 
URL:https://www.aiabaltimore.org/event/not-nontraditional-women-in-the-building-trades-preservation-maryland/
CATEGORIES:Partner Programs
END:VEVENT
END:VCALENDAR