BEGIN:VCALENDAR
VERSION:2.0
PRODID:-//AIA Baltimore/Baltimore Architecture Foundation - ECPv5.14.1//NONSGML v1.0//EN
CALSCALE:GREGORIAN
METHOD:PUBLISH
X-WR-CALNAME:AIA Baltimore/Baltimore Architecture Foundation
X-ORIGINAL-URL:https://www.aiabaltimore.org
X-WR-CALDESC:Events for AIA Baltimore/Baltimore Architecture Foundation
REFRESH-INTERVAL;VALUE=DURATION:PT1H
X-Robots-Tag:noindex
X-PUBLISHED-TTL:PT1H
BEGIN:VTIMEZONE
TZID:America/New_York
BEGIN:DAYLIGHT
TZOFFSETFROM:-0500
TZOFFSETTO:-0400
TZNAME:EDT
DTSTART:20200308T070000
END:DAYLIGHT
BEGIN:STANDARD
TZOFFSETFROM:-0400
TZOFFSETTO:-0500
TZNAME:EST
DTSTART:20201101T060000
END:STANDARD
END:VTIMEZONE
BEGIN:VEVENT
DTSTART;TZID=America/New_York:20200820T160000
DTEND;TZID=America/New_York:20200820T163000
DTSTAMP:20260420T010759
CREATED:20200817T160830Z
LAST-MODIFIED:20200817T160830Z
UID:23435-1597939200-1597941000@www.aiabaltimore.org
SUMMARY:Queries & Theories \\ Race & Preservation (Quinn Evans)
DESCRIPTION:Join us for our next Queries & Theories webcast on August 20\, 4:00 – 4:30 pm ET. Brent Leggs\, Executive Director of the African American Cultural Heritage Action Fund with the National Trust for Historic Preservation & Nakita Reed\, AIA\, CPHC\, LEED AP BD+C\, NOMA\, Senior Architect with Quinn Evans\, will explore race and preservation through the following questions: What is historic preservation’s responsibility to contribute to anti-racism and social equity in America? How can cultural importance and architectural integrity be balanced to minimize the exclusion of more diverse sites? How are African American Action Fund sites expanding the types of stories brought to mainstream preservation? What are additional methods of engagement that could be practiced to expand access to the preservation field? Our webcast will be moderated by Carl Elefante\, FAIA\, FAPT\, Principal Emeritus with Quinn Evans. We welcome you to submit your questions and comments when registering for this event\, as well as during the live discussion via GoToWebinar’s Questions feature. Can’t make it for the live discussion? No problem! Each podcast will be recorded and posted to the Quinn Evans website\, along with other resources\, for you to access at your convenience. For more information on the Queries & Theories webcast series\, this session\, and our speakers\, visit https://www.quinnevans.com/webcasts. \nRegister Here
URL:https://www.aiabaltimore.org/event/queries-theories-race-preservation-quinn-evans/
CATEGORIES:Partner Programs
END:VEVENT
END:VCALENDAR