BEGIN:VCALENDAR
VERSION:2.0
PRODID:-//AIA Baltimore/Baltimore Architecture Foundation - ECPv5.14.1//NONSGML v1.0//EN
CALSCALE:GREGORIAN
METHOD:PUBLISH
X-WR-CALNAME:AIA Baltimore/Baltimore Architecture Foundation
X-ORIGINAL-URL:https://www.aiabaltimore.org
X-WR-CALDESC:Events for AIA Baltimore/Baltimore Architecture Foundation
REFRESH-INTERVAL;VALUE=DURATION:PT1H
X-Robots-Tag:noindex
X-PUBLISHED-TTL:PT1H
BEGIN:VTIMEZONE
TZID:America/New_York
BEGIN:DAYLIGHT
TZOFFSETFROM:-0500
TZOFFSETTO:-0400
TZNAME:EDT
DTSTART:20200308T070000
END:DAYLIGHT
BEGIN:STANDARD
TZOFFSETFROM:-0400
TZOFFSETTO:-0500
TZNAME:EST
DTSTART:20201101T060000
END:STANDARD
END:VTIMEZONE
BEGIN:VEVENT
DTSTART;TZID=America/New_York:20200610T150000
DTEND;TZID=America/New_York:20200610T163000
DTSTAMP:20260421T081130
CREATED:20200515T051037Z
LAST-MODIFIED:20200519T190550Z
UID:17743-1591801200-1591806600@www.aiabaltimore.org
SUMMARY:Reducing the Risks of Nonstructural Earthquake Damage (FEMA)
DESCRIPTION:Embrace seismic safety on your projects with a FREE webinar on FEMA E-74\, Reducing the Risks of Nonstructural Earthquake Damage (June 10th)\nFEMA wanted architects to be the first to know about this free webinar – see below for a special early announcement. Registration is limited.  \nWednesday\, June 10\, 2020 \n12:00 pm – 1:30 pm Pacific \nRegistration Fee: Free \nArchitects play a crucial role in seismic safety and are especially integral when it comes to designing nonstructural components that are resistant to earthquakes. Earthquake damage to nonstructural components\, like partitions\, ceilings\, glazing\, and cladding\, and MEP systems can cause serious safety issues to occupants and contribute to building downtime after an event. In recent U.S. earthquakes\, nonstructural failures have also been the largest source of financial losses. In this free webinar hosted by the Applied Technology Council (ATC) about FEMA E-74\, Reducing the Risks of Nonstructural Earthquake Damage\, you will learn about the basic principles behind seismic resistant design of nonstructural components and the role you can play in reducing seismic risk of these elements. Architects are a prime audience for this webinar. \nRegister Now\nLearn More\n 
URL:https://www.aiabaltimore.org/event/reducing-the-risks-of-nonstructural-earthquake-damage-fema/
LOCATION:Free webinar
CATEGORIES:Partner Programs
END:VEVENT
END:VCALENDAR