BEGIN:VCALENDAR
VERSION:2.0
PRODID:-//AIA Baltimore/Baltimore Architecture Foundation - ECPv5.14.1//NONSGML v1.0//EN
CALSCALE:GREGORIAN
METHOD:PUBLISH
X-WR-CALNAME:AIA Baltimore/Baltimore Architecture Foundation
X-ORIGINAL-URL:https://www.aiabaltimore.org
X-WR-CALDESC:Events for AIA Baltimore/Baltimore Architecture Foundation
REFRESH-INTERVAL;VALUE=DURATION:PT1H
X-Robots-Tag:noindex
X-PUBLISHED-TTL:PT1H
BEGIN:VTIMEZONE
TZID:America/New_York
BEGIN:DAYLIGHT
TZOFFSETFROM:-0500
TZOFFSETTO:-0400
TZNAME:EDT
DTSTART:20210314T070000
END:DAYLIGHT
BEGIN:STANDARD
TZOFFSETFROM:-0400
TZOFFSETTO:-0500
TZNAME:EST
DTSTART:20211107T060000
END:STANDARD
END:VTIMEZONE
BEGIN:VEVENT
DTSTART;TZID=America/New_York:20210220T100000
DTEND;TZID=America/New_York:20210220T120000
DTSTAMP:20260423T033952
CREATED:20201221T135229Z
LAST-MODIFIED:20201221T135229Z
UID:25614-1613815200-1613822400@www.aiabaltimore.org
SUMMARY:Achieving Registration Together: ARE 5.0 Study Sessions
DESCRIPTION:Join AIA Baltimore in preparing with these essential ARE study sessions\, tips\, and practice with fellow emerging professionals!\n\n\n\n2021 is the year to get started or revisit your quest to becoming a registered architect! \nTo help you on the path to licensure\, AIA Baltimore Emerging Professionals Committee organizes Achieving Registration Together (ART)\, a series of ARE study sessions with tips\, discussions and practice led by fellow EPs who have recently completed the exams.* \nJoining a virtual study group is an effective strategy to maximize your time as you prepare for your exam. Group members are stronger together because we each can share unique insights and talents and because we set goals together and hold each other accountable. \n*Please note\, during the COVID-19 pandemic all AIA Baltimore board\, committee\, and individual meetings have been rescheduled as virtual events. \nSchedule 2021 ARE 5.0 Study Sessions \nJanuary 2020 – June 2021 \n$5 AIA members \n$10.00 Non-members \nStudy sessions are scheduled for Saturdays from 10 AM to Noon and are hosted virtually on Zoom. \nPractice Management (PcM) — January 23\, 2020 \nProject Management (PjM) — February 20\, 2020 \nConstruction Evaluation (CE) — March 20\, 2020 \nPrograming and Analysis (PA) — April 17\, 2020 \nProject Planning and Design (PPD) — May 8\, 2020 \nProject Development and Documentation (PDD) — June 5\, 2020
URL:https://www.aiabaltimore.org/event/achieving-registration-together-are-5-0-study-sessions/
LOCATION:Virtual Webinar
CATEGORIES:ARE Prep,Networking
ATTACH;FMTTYPE=image/jpeg:https://www.aiabaltimore.org/wp-content/uploads/2020/12/3049f5c6f9416b7f72a5b1e905478af7-J1DGQH.tmp_.jpg
END:VEVENT
BEGIN:VEVENT
DTSTART;TZID=America/New_York:20210220T150000
DTEND;TZID=America/New_York:20210220T160000
DTSTAMP:20260423T033952
CREATED:20210202T182555Z
LAST-MODIFIED:20210202T182555Z
UID:26037-1613833200-1613836800@www.aiabaltimore.org
SUMMARY:Vanishing Heritage: Baltimore County’s Historic African American Communities (Preservation Alliance of Baltimore County)
DESCRIPTION:Preservation Alliance of Baltimore County presents: Carolyn Greenfield Adam\, Historian & Preservation Alliance Board Member \nVanishing Heritage: Baltimore County’s Historic African American Communities \nBaltimore County’s forty historic African American communities developed based on Maryland’s history of coexisting slave and free Black populations and the resulting legal and social segregation. The existence of these communities and their buildings helped to preserve their mostly overlooked history. But development and societal changes are adversely impacting these historic places. In rural Northern Baltimore County many have already disappeared leaving few traces. You have probably driven past or even lived nearby many of them without even realizing it. Those that do remain are important for what they can teach us about this largely undocumented part of Maryland’s history. \nThis presentation will give an overall view of that history and look at several of the remaining communities or structures in more detail. \nTopic: Baltimore County’s Historic African American Communities \nTime: Feb 20\, 2021 03:00 PM Eastern Time (US and Canada) \nJoin Zoom Meeting \nhttps://us02web.zoom.us/j/87090707612 \nMeeting ID: 870 9070 7612 \nOne tap mobile \n+13017158592\,\,87090707612# US (Washington DC) \n+13126266799\,\,87090707612# US (Chicago) \nDial by your location \n+1 301 715 8592 US (Washington DC) \n+1 312 626 6799 US (Chicago) \n+1 646 558 8656 US (New York) \n+1 346 248 7799 US (Houston) \n+1 669 900 9128 US (San Jose)
URL:https://www.aiabaltimore.org/event/vanishing-heritage-baltimore-countys-historic-african-american-communities-preservation-alliance-of-baltimore-county/
CATEGORIES:Partner Programs
END:VEVENT
END:VCALENDAR