BEGIN:VCALENDAR
VERSION:2.0
PRODID:-//AIA Baltimore/Baltimore Architecture Foundation - ECPv5.14.1//NONSGML v1.0//EN
CALSCALE:GREGORIAN
METHOD:PUBLISH
X-WR-CALNAME:AIA Baltimore/Baltimore Architecture Foundation
X-ORIGINAL-URL:https://www.aiabaltimore.org
X-WR-CALDESC:Events for AIA Baltimore/Baltimore Architecture Foundation
REFRESH-INTERVAL;VALUE=DURATION:PT1H
X-Robots-Tag:noindex
X-PUBLISHED-TTL:PT1H
BEGIN:VTIMEZONE
TZID:America/New_York
BEGIN:DAYLIGHT
TZOFFSETFROM:-0500
TZOFFSETTO:-0400
TZNAME:EDT
DTSTART:20220313T070000
END:DAYLIGHT
BEGIN:STANDARD
TZOFFSETFROM:-0400
TZOFFSETTO:-0500
TZNAME:EST
DTSTART:20221106T060000
END:STANDARD
BEGIN:DAYLIGHT
TZOFFSETFROM:-0500
TZOFFSETTO:-0400
TZNAME:EDT
DTSTART:20230312T070000
END:DAYLIGHT
BEGIN:STANDARD
TZOFFSETFROM:-0400
TZOFFSETTO:-0500
TZNAME:EST
DTSTART:20231105T060000
END:STANDARD
END:VTIMEZONE
BEGIN:VEVENT
DTSTART;TZID=America/New_York:20220103T180000
DTEND;TZID=America/New_York:20230103T190000
DTSTAMP:20260425T070823
CREATED:20220109T163757Z
LAST-MODIFIED:20220110T195652Z
UID:29058-1641232800-1672772400@www.aiabaltimore.org
SUMMARY:Emerging Professionals Committee Meeting
DESCRIPTION:The AIA Baltimore Emerging Professionals Committee is a social and professional network of building-industry professionals.  We are geared toward recent graduates\, Architectural Experience Program (AXP) participants\, young architects\, and designers.\nWe have monthly committee meetings and host a variety of events including tours\, happy hours\, and educational programs. \nTo join this committee\, please contact co-chairs: \nWadiah Akbar\, Assoc. AIA: wadiah3@gmail.com\nQuinn Evans \nCharlston Britton\, Assoc. AIA: charlstonb@bctdesigngroup.com\nBCT Design Group
URL:https://www.aiabaltimore.org/event/emerging-professionals-committee-meeting/2022-01-03/
CATEGORIES:Committee Meetings
END:VEVENT
BEGIN:VEVENT
DTSTART;TZID=America/New_York:20220125T180000
DTEND;TZID=America/New_York:20230125T190000
DTSTAMP:20260425T070823
CREATED:20220109T163408Z
LAST-MODIFIED:20220110T195704Z
UID:29052-1643133600-1674673200@www.aiabaltimore.org
SUMMARY:COTE | R Committee Meeting
DESCRIPTION:The Committee on the Environment was formed to promote the benefits of environmentally-conscious design and construction within the building professions and the community at large. We are involved in a number of projects\, some in partnership with community organizations\, to promote a healthier\, more sustainable environment in the Baltimore region.\nThe AIA Baltimore Resiliency Committee joined COTE in January 2015. The subcommittee is a network of building design professionals dedicated to educating\, promoting and implementing programs that help prepare for\, respond to\, and recover from disasters within our design community and the community at large. \nTo join this committee\, please contact co-chair: \nBen Roush\, PE-ME\, FPE\, LEED AP BD+C\, CCP\, ASHRAE BEMP and BEAP: benr@fsi-engineers.com\nFSi Engineers \nZolna Russell\, PLA\, LEED AP\, SITES AP: ZRussell@flourateeter.com\nFloura Teeter
URL:https://www.aiabaltimore.org/event/cote-r-committee-meeting/2022-01-25/
CATEGORIES:Committee Meetings
END:VEVENT
BEGIN:VEVENT
DTSTART;TZID=America/New_York:20220419T170000
DTEND;TZID=America/New_York:20220419T180000
DTSTAMP:20260425T070823
CREATED:20220407T183929Z
LAST-MODIFIED:20220407T184023Z
UID:29601-1650387600-1650391200@www.aiabaltimore.org
SUMMARY:AIA Baltimore HRC Presents: Menokin Stone
DESCRIPTION:1.0 LU/HSW Pending \nThis talk will address aspects of professional practice that protect occupants\, users\, and any others affected by buildings or sites from harm. \nLearning Objectives: \n\nProgramming and analysis This category focuses on areas related to the evaluation of project requirements\, constraints\, and opportunities.\nProject planning and design This category focuses on areas related to the preliminary design of sites and buildings.\nProject development and documentation This category focuses on areas related to the integration and documentation of building systems\, material selection\, and material assemblies into a project.\nConstruction and evaluation This category focuses on areas related to construction contract administration and post-occupancy evaluation of projects.\n\nTo attend this lecture\, please use the Zoom information below on the date and time of the event: \nJoin Zoom Meeting\nhttps://us02web.zoom.us/j/82424535383?pwd=d0RFcjg1MTVsNk1IRFQ3c2QrR2poUT09 \nMeeting ID: 824 2453 5383\nPasscode: 323559
URL:https://www.aiabaltimore.org/event/aia-baltimore-hrc-presents-menokin-stone/
CATEGORIES:Committee Meetings,Continuing Education,Special Events
END:VEVENT
END:VCALENDAR