BEGIN:VCALENDAR
VERSION:2.0
PRODID:-//AIA Baltimore/Baltimore Architecture Foundation - ECPv5.14.1//NONSGML v1.0//EN
CALSCALE:GREGORIAN
METHOD:PUBLISH
X-WR-CALNAME:AIA Baltimore/Baltimore Architecture Foundation
X-ORIGINAL-URL:https://www.aiabaltimore.org
X-WR-CALDESC:Events for AIA Baltimore/Baltimore Architecture Foundation
REFRESH-INTERVAL;VALUE=DURATION:PT1H
X-Robots-Tag:noindex
X-PUBLISHED-TTL:PT1H
BEGIN:VTIMEZONE
TZID:America/New_York
BEGIN:DAYLIGHT
TZOFFSETFROM:-0500
TZOFFSETTO:-0400
TZNAME:EDT
DTSTART:20250309T070000
END:DAYLIGHT
BEGIN:STANDARD
TZOFFSETFROM:-0400
TZOFFSETTO:-0500
TZNAME:EST
DTSTART:20251102T060000
END:STANDARD
END:VTIMEZONE
BEGIN:VEVENT
DTSTART;TZID=America/New_York:20251105T180000
DTEND;TZID=America/New_York:20251105T200000
DTSTAMP:20260422T123003
CREATED:20251010T142054Z
LAST-MODIFIED:20251020T182503Z
UID:35507-1762365600-1762372800@www.aiabaltimore.org
SUMMARY:Small Firms Workshop: SFx Insurance and Legal Risk
DESCRIPTION:Participants will be able to identify key elements of employment law relevant to design firms\, including proper classification of employees\, handling workplace disputes\, and compliance with evolving labor regulations. Attendees will learn how to implement firm policies that promote fairness while minimizing legal exposure. \nRefreshments will be provided. \nGet your tickets here. \nTo register for other programs in the series\, click here.
URL:https://www.aiabaltimore.org/event/small-firms-workshop-sfx-insurance-and-legal-risk/
LOCATION:The Center for Architecture and Design\, 100 N Charles St\, Baltimore\, MD\, 21218\, United States
ATTACH;FMTTYPE=image/png:https://www.aiabaltimore.org/wp-content/uploads/2025/10/2.png
END:VEVENT
END:VCALENDAR