BEGIN:VCALENDAR
VERSION:2.0
PRODID:-//AIA Baltimore/Baltimore Architecture Foundation - ECPv5.14.1//NONSGML v1.0//EN
CALSCALE:GREGORIAN
METHOD:PUBLISH
X-WR-CALNAME:AIA Baltimore/Baltimore Architecture Foundation
X-ORIGINAL-URL:https://www.aiabaltimore.org
X-WR-CALDESC:Events for AIA Baltimore/Baltimore Architecture Foundation
REFRESH-INTERVAL;VALUE=DURATION:PT1H
X-Robots-Tag:noindex
X-PUBLISHED-TTL:PT1H
BEGIN:VTIMEZONE
TZID:America/New_York
BEGIN:DAYLIGHT
TZOFFSETFROM:-0500
TZOFFSETTO:-0400
TZNAME:EDT
DTSTART:20240310T070000
END:DAYLIGHT
BEGIN:STANDARD
TZOFFSETFROM:-0400
TZOFFSETTO:-0500
TZNAME:EST
DTSTART:20241103T060000
END:STANDARD
BEGIN:DAYLIGHT
TZOFFSETFROM:-0500
TZOFFSETTO:-0400
TZNAME:EDT
DTSTART:20250309T070000
END:DAYLIGHT
BEGIN:STANDARD
TZOFFSETFROM:-0400
TZOFFSETTO:-0500
TZNAME:EST
DTSTART:20251102T060000
END:STANDARD
END:VTIMEZONE
BEGIN:VEVENT
DTSTART;TZID=America/New_York:20251209T090000
DTEND;TZID=America/New_York:20251209T103000
DTSTAMP:20260421T115049
CREATED:20251105T194855Z
LAST-MODIFIED:20251105T194855Z
UID:35833-1765270800-1765276200@www.aiabaltimore.org
SUMMARY:Portfolio Review with Baltimore Design School Students
DESCRIPTION:Join the Future Architects Resources (FAR) Committee for a Portfolio Review event the morning of Tuesday\, December 9th at the Center for Architecture and Design. Senior architecture students from the Baltimore Design School are looking for professional input on their college admissions portfolios. \nCenter for Architecture and Design\n100 N. Charles Street\, P101\nBaltimore\, MD 21201 \n8:45 – 9:15am check in\, meet fellow reviewers (coffee and donuts provided)\n9:15 – 10:15am portfolio review\, “speed dating” format \nSign up to volunteer here.
URL:https://www.aiabaltimore.org/event/portfolio-review-with-baltimore-design-school-students/
CATEGORIES:Volunteer Opportunity
ATTACH;FMTTYPE=image/jpeg:https://www.aiabaltimore.org/wp-content/uploads/2023/11/BDS-portfolio-review-scaled.jpg
END:VEVENT
BEGIN:VEVENT
DTSTART;TZID=America/New_York:20241210T103000
DTEND;TZID=America/New_York:20241210T123000
DTSTAMP:20260421T115049
CREATED:20241105T214542Z
LAST-MODIFIED:20241105T214542Z
UID:34158-1733826600-1733833800@www.aiabaltimore.org
SUMMARY:Portfolio Review for Baltimore Design School
DESCRIPTION:Join the Future Architects Resources (FAR) Committee for a Portfolio Review event the morning of Tuesday\, December 10th at the Center for Architecture and Design. Senior architecture students from the Baltimore Design School are looking for professional input on their college admissions portfolios. \nRSVP here to volunteer! \nCenter for Architecture and Design\n100 N. Charles Street P101\nBaltimore\, MD 21201 \n10:45 – 11:45am portfolio review\, “speed dating” format\n11:45 – 12:30pm stay for lunch with fellow volunteers
URL:https://www.aiabaltimore.org/event/portfolio-review-for-baltimore-design-school/
CATEGORIES:Volunteer Opportunity
ATTACH;FMTTYPE=image/jpeg:https://www.aiabaltimore.org/wp-content/uploads/2023/11/BDS-portfolio-review-scaled.jpg
END:VEVENT
END:VCALENDAR